BEGIN:VCALENDAR
VERSION:2.0
PRODID:-//MOTODOFFO - ECPv6.9.0//NONSGML v1.0//EN
CALSCALE:GREGORIAN
METHOD:PUBLISH
X-ORIGINAL-URL:https://motodoffo.com
X-WR-CALDESC:Events for MOTODOFFO
REFRESH-INTERVAL;VALUE=DURATION:PT1H
X-Robots-Tag:noindex
X-PUBLISHED-TTL:PT1H
BEGIN:VTIMEZONE
TZID:America/Los_Angeles
BEGIN:DAYLIGHT
TZOFFSETFROM:-0800
TZOFFSETTO:-0700
TZNAME:PDT
DTSTART:20200308T100000
END:DAYLIGHT
BEGIN:STANDARD
TZOFFSETFROM:-0700
TZOFFSETTO:-0800
TZNAME:PST
DTSTART:20201101T090000
END:STANDARD
BEGIN:DAYLIGHT
TZOFFSETFROM:-0800
TZOFFSETTO:-0700
TZNAME:PDT
DTSTART:20210314T100000
END:DAYLIGHT
BEGIN:STANDARD
TZOFFSETFROM:-0700
TZOFFSETTO:-0800
TZNAME:PST
DTSTART:20211107T090000
END:STANDARD
BEGIN:DAYLIGHT
TZOFFSETFROM:-0800
TZOFFSETTO:-0700
TZNAME:PDT
DTSTART:20220313T100000
END:DAYLIGHT
BEGIN:STANDARD
TZOFFSETFROM:-0700
TZOFFSETTO:-0800
TZNAME:PST
DTSTART:20221106T090000
END:STANDARD
END:VTIMEZONE
BEGIN:VEVENT
DTSTART;TZID=America/Los_Angeles:20221023T090000
DTEND;TZID=America/Los_Angeles:20221023T140000
DTSTAMP:20260423T143812
CREATED:20220929T205204Z
LAST-MODIFIED:20220929T205204Z
UID:3758-1666515600-1666533600@motodoffo.com
SUMMARY:Fast Babes Fall Meet Up
DESCRIPTION:We are hosting the Fast Babes Fall Meet Up! \n9:00 – 11:00 – MOTO GP Viewing  Read more...
URL:https://motodoffo.com/event/fast-babes-fall-meet-up/
LOCATION:Doffo Winery\, 36083 Summitville St\, Temecula\, CA\, 92592\, United States
CATEGORIES:Fundraising Event
ATTACH;FMTTYPE=image/jpeg:https://motodoffo.com/wp-content/uploads/2022/09/image0.jpeg
END:VEVENT
BEGIN:VEVENT
DTSTART;TZID=America/Los_Angeles:20220611T160000
DTEND;TZID=America/Los_Angeles:20220611T220000
DTSTAMP:20260423T143812
CREATED:20220510T164602Z
LAST-MODIFIED:20220510T164602Z
UID:3579-1654963200-1654984800@motodoffo.com
SUMMARY:8th Annual Caselli MotoDoffo Event
DESCRIPTION:Join us to honor Kurt Caselli and raise money to Protect & Support the Lives of Off-Road Riders!\nWe invite you to join us for the 8th Annual Caselli MotoDoffo fundraising event\, an evening of celebrating the life of Kurt Caselli and the Foundation’s accomplishments\, and to raise funds to continue to fulfill The Kurt Caselli Foundation’s mission of Protecting and Supporting the Lives of Off-Road Riders.  Read more...
URL:https://motodoffo.com/event/8th-annual-caselli-motodoffo-event/
LOCATION:Doffo Winery\, 36083 Summitville St\, Temecula\, CA\, 92592\, United States
CATEGORIES:Fundraising Event
ATTACH;FMTTYPE=image/jpeg:https://motodoffo.com/wp-content/uploads/2022/05/2022-Kurt-Caselli-Event-Poster.jpg
ORGANIZER;CN="Kurt Caselli Foundation":MAILTO:lindsey@kurtcaselli.com
END:VEVENT
BEGIN:VEVENT
DTSTART;TZID=America/Los_Angeles:20220409T110000
DTEND;TZID=America/Los_Angeles:20220409T170000
DTSTAMP:20260423T143812
CREATED:20220310T181838Z
LAST-MODIFIED:20220310T181838Z
UID:3546-1649502000-1649523600@motodoffo.com
SUMMARY:Ride My Road Fundraiser
DESCRIPTION:Join the Doffo Family on April 9 as we ride for a worthy cause. Ride My Road helps put an end to human-trafficking and we’re honored to host this event and show our support. The ride will end at Doffo Winery where guests can participate in raffles\, get a meal from the FYS Grill\, and of course sip the specially labeled MotoDoffo Wine featuring incredible artwork from Fox Heart Art!  Read more...
URL:https://motodoffo.com/event/ride-my-road-fundraiser/
LOCATION:Doffo Winery\, 36083 Summitville St\, Temecula\, CA\, 92592\, United States
CATEGORIES:Fundraising Event
ATTACH;FMTTYPE=image/jpeg:https://motodoffo.com/wp-content/uploads/2022/03/Ride-My-Road.jpg
END:VEVENT
BEGIN:VEVENT
DTSTART;TZID=America/Los_Angeles:20210523T080000
DTEND;TZID=America/Los_Angeles:20210523T110000
DTSTAMP:20260423T143812
CREATED:20210430T210723Z
LAST-MODIFIED:20210430T210723Z
UID:2958-1621756800-1621767600@motodoffo.com
SUMMARY:Doffo Ride to the DGR
DESCRIPTION:Are you going to the Distinguished Gentleman’s Ride in San Diego? https://www.gentlemansride.com/\n\nWhy not start your day at Doffo Winery with a fantastic breakfast from Fuego Y Sal catering\, an energizing cup of coffee\, and then ride along with great company\, followed by lunch upon arrival in San Diego.\n\n$30 per person includes\n1 cup of coffee\n1 Breakfast Burrito\nRide along with Doffo\nBoxed Lunch upon arrival\n\nSchedule:\n8:00am BREAKFAST\n9:00am KICK STANDS UP\n11:00am ARRIVAL/LUNCH\n\nCLICK HERE FOR TICKETS TO THE DOFFO RIDE  Read more...
URL:https://motodoffo.com/event/doffo-ride-to-the-dgr/
LOCATION:Doffo Winery\, 36083 Summitville St\, Temecula\, CA\, 92592\, United States
CATEGORIES:Fundraising Event
ATTACH;FMTTYPE=image/jpeg:https://motodoffo.com/wp-content/uploads/2021/04/MD1338_DGRFlyerandGraphic_Ride2.jpg
ORGANIZER;CN="Doffo Winery":MAILTO:info@doffowines.com
END:VEVENT
BEGIN:VEVENT
DTSTART;TZID=America/Los_Angeles:20210516T110000
DTEND;TZID=America/Los_Angeles:20210516T150000
DTSTAMP:20260423T143812
CREATED:20210430T210415Z
LAST-MODIFIED:20210430T210415Z
UID:2955-1621162800-1621177200@motodoffo.com
SUMMARY:Distinguished Gentleman's Ride Launch Party
DESCRIPTION:We have joined forces with the Distinguished Gentleman’s Ride to create a limited edition MotoDoffo wine! This red blend features original artwork by this year’s label artist\, Chris White (@buzzvizualz) and a portion of the proceeds of each bottle will go to benefit Movember.\n\nWe invite you to the winery on Sunday\, May 16th 11am-3pm as we officially release this wine and make it available for purchase!\n\nThis event is free to attend and will feature moto vendors\, live music\, some awesome raffle prizes donated by Triumph Motorcycles and other companies\, and food and drinks will be available for purchase.\n\nCLICK HERE TO GET YOUR FREE TICKETS
URL:https://motodoffo.com/event/distinguished-gentlemans-ride-launch-party/
LOCATION:Doffo Winery\, 36083 Summitville St\, Temecula\, CA\, 92592\, United States
CATEGORIES:Fundraising Event
ATTACH;FMTTYPE=image/jpeg:https://motodoffo.com/wp-content/uploads/2021/04/MD1338_DGRFlyerandGraphic.jpg
ORGANIZER;CN="Doffo Winery":MAILTO:info@doffowines.com
END:VEVENT
BEGIN:VEVENT
DTSTART;TZID=America/Los_Angeles:20200405T110000
DTEND;TZID=America/Los_Angeles:20200405T160000
DTSTAMP:20260423T143812
CREATED:20200218T164811Z
LAST-MODIFIED:20200316T220737Z
UID:2802-1586084400-1586102400@motodoffo.com
SUMMARY:POSTPONED – 2nd Annual Women Wheels
DESCRIPTION:PLEASE NOTE: all Doffo Winery events through May have been postponed until further notice. Be sure to check back or follow us on social media for updates.  Read more...
URL:https://motodoffo.com/event/2nd-annual-women-wheels/
LOCATION:Doffo Winery\, 36083 Summitville St\, Temecula\, CA\, 92592\, United States
CATEGORIES:Fundraising Event
ATTACH;FMTTYPE=image/jpeg:https://motodoffo.com/wp-content/uploads/2020/02/DJI_0145.jpg
END:VEVENT
END:VCALENDAR