BEGIN:VCALENDAR
VERSION:2.0
PRODID:-//MOTODOFFO - ECPv6.9.0//NONSGML v1.0//EN
CALSCALE:GREGORIAN
METHOD:PUBLISH
X-WR-CALNAME:MOTODOFFO
X-ORIGINAL-URL:https://motodoffo.com
X-WR-CALDESC:Events for MOTODOFFO
REFRESH-INTERVAL;VALUE=DURATION:PT1H
X-Robots-Tag:noindex
X-PUBLISHED-TTL:PT1H
BEGIN:VTIMEZONE
TZID:America/Los_Angeles
BEGIN:DAYLIGHT
TZOFFSETFROM:-0800
TZOFFSETTO:-0700
TZNAME:PDT
DTSTART:20230312T100000
END:DAYLIGHT
BEGIN:STANDARD
TZOFFSETFROM:-0700
TZOFFSETTO:-0800
TZNAME:PST
DTSTART:20231105T090000
END:STANDARD
END:VTIMEZONE
BEGIN:VEVENT
DTSTART;TZID=America/Los_Angeles:20230825T110000
DTEND;TZID=America/Los_Angeles:20230826T160000
DTSTAMP:20260425T090744
CREATED:20230814T181339Z
LAST-MODIFIED:20230814T181339Z
UID:4058-1692961200-1693065600@motodoffo.com
SUMMARY:Wine Club Member Appreciation Days
DESCRIPTION:We want all of our wine club members to know just how grateful we are for each and every one of you\, so let’s celebrate! Join us for an appreciation party in the MotoBarrel Room for wine\, charcuterie\, and more. Plus\, get early access to our special offers that will be available later this month in celebration of National Wine Day!  Read more...
URL:https://motodoffo.com/event/wine-club-member-appreciation-days/
LOCATION:Doffo Winery\, 36083 Summitville St\, Temecula\, CA\, 92592\, United States
CATEGORIES:MotoDoffo Wine Club Party
ATTACH;FMTTYPE=image/jpeg:https://motodoffo.com/wp-content/uploads/2023/08/Doffo-Wine-Club-Member-Appreciation-Days.jpg
ORGANIZER;CN="Doffo Winery":MAILTO:info@doffowines.com
END:VEVENT
END:VCALENDAR