BEGIN:VCALENDAR
VERSION:2.0
PRODID:-//MOTODOFFO - ECPv6.9.0//NONSGML v1.0//EN
CALSCALE:GREGORIAN
METHOD:PUBLISH
X-WR-CALNAME:MOTODOFFO
X-ORIGINAL-URL:https://motodoffo.com
X-WR-CALDESC:Events for MOTODOFFO
REFRESH-INTERVAL;VALUE=DURATION:PT1H
X-Robots-Tag:noindex
X-PUBLISHED-TTL:PT1H
BEGIN:VTIMEZONE
TZID:America/Los_Angeles
BEGIN:DAYLIGHT
TZOFFSETFROM:-0800
TZOFFSETTO:-0700
TZNAME:PDT
DTSTART:20230312T100000
END:DAYLIGHT
BEGIN:STANDARD
TZOFFSETFROM:-0700
TZOFFSETTO:-0800
TZNAME:PST
DTSTART:20231105T090000
END:STANDARD
END:VTIMEZONE
BEGIN:VEVENT
DTSTART;TZID=America/Los_Angeles:20231117T110000
DTEND;TZID=America/Los_Angeles:20231119T160000
DTSTAMP:20260425T062730
CREATED:20231103T151411Z
LAST-MODIFIED:20231103T151411Z
UID:4099-1700218800-1700409600@motodoffo.com
SUMMARY:Friendsgiving Wine Club Appreciation Weekend
DESCRIPTION:This Thanksgiving season\, we are grateful for YOU\, our loyal wine club members and the friends you share us with. So we are excited to invite you to our Friendsgiving weekend\, free to attend for you and 2 of your friends!  Read more...
URL:https://motodoffo.com/event/friendsgiving-wine-club-appreciation-weekend/
LOCATION:Doffo Winery\, 36083 Summitville St\, Temecula\, CA\, 92592\, United States
CATEGORIES:MotoDoffo Wine Club Party
ATTACH;FMTTYPE=image/jpeg:https://motodoffo.com/wp-content/uploads/2023/11/Doffo-Friendsgiving.jpg
ORGANIZER;CN="Doffo Winery":MAILTO:info@doffowines.com
END:VEVENT
END:VCALENDAR