BEGIN:VCALENDAR
VERSION:2.0
PRODID:-//MOTODOFFO - ECPv6.9.0//NONSGML v1.0//EN
CALSCALE:GREGORIAN
METHOD:PUBLISH
X-WR-CALNAME:MOTODOFFO
X-ORIGINAL-URL:https://motodoffo.com
X-WR-CALDESC:Events for MOTODOFFO
REFRESH-INTERVAL;VALUE=DURATION:PT1H
X-Robots-Tag:noindex
X-PUBLISHED-TTL:PT1H
BEGIN:VTIMEZONE
TZID:America/Los_Angeles
BEGIN:DAYLIGHT
TZOFFSETFROM:-0800
TZOFFSETTO:-0700
TZNAME:PDT
DTSTART:20190310T100000
END:DAYLIGHT
BEGIN:STANDARD
TZOFFSETFROM:-0700
TZOFFSETTO:-0800
TZNAME:PST
DTSTART:20191103T090000
END:STANDARD
BEGIN:DAYLIGHT
TZOFFSETFROM:-0800
TZOFFSETTO:-0700
TZNAME:PDT
DTSTART:20200308T100000
END:DAYLIGHT
BEGIN:STANDARD
TZOFFSETFROM:-0700
TZOFFSETTO:-0800
TZNAME:PST
DTSTART:20201101T090000
END:STANDARD
BEGIN:DAYLIGHT
TZOFFSETFROM:-0800
TZOFFSETTO:-0700
TZNAME:PDT
DTSTART:20210314T100000
END:DAYLIGHT
BEGIN:STANDARD
TZOFFSETFROM:-0700
TZOFFSETTO:-0800
TZNAME:PST
DTSTART:20211107T090000
END:STANDARD
BEGIN:DAYLIGHT
TZOFFSETFROM:-0800
TZOFFSETTO:-0700
TZNAME:PDT
DTSTART:20220313T100000
END:DAYLIGHT
BEGIN:STANDARD
TZOFFSETFROM:-0700
TZOFFSETTO:-0800
TZNAME:PST
DTSTART:20221106T090000
END:STANDARD
BEGIN:DAYLIGHT
TZOFFSETFROM:-0800
TZOFFSETTO:-0700
TZNAME:PDT
DTSTART:20230312T100000
END:DAYLIGHT
BEGIN:STANDARD
TZOFFSETFROM:-0700
TZOFFSETTO:-0800
TZNAME:PST
DTSTART:20231105T090000
END:STANDARD
END:VTIMEZONE
BEGIN:VEVENT
DTSTART;TZID=America/Los_Angeles:20231117T110000
DTEND;TZID=America/Los_Angeles:20231119T160000
DTSTAMP:20260423T101536
CREATED:20231103T151411Z
LAST-MODIFIED:20231103T151411Z
UID:4099-1700218800-1700409600@motodoffo.com
SUMMARY:Friendsgiving Wine Club Appreciation Weekend
DESCRIPTION:This Thanksgiving season\, we are grateful for YOU\, our loyal wine club members and the friends you share us with. So we are excited to invite you to our Friendsgiving weekend\, free to attend for you and 2 of your friends!  Read more...
URL:https://motodoffo.com/event/friendsgiving-wine-club-appreciation-weekend/
LOCATION:Doffo Winery\, 36083 Summitville St\, Temecula\, CA\, 92592\, United States
CATEGORIES:MotoDoffo Wine Club Party
ATTACH;FMTTYPE=image/jpeg:https://motodoffo.com/wp-content/uploads/2023/11/Doffo-Friendsgiving.jpg
ORGANIZER;CN="Doffo Winery":MAILTO:info@doffowines.com
END:VEVENT
BEGIN:VEVENT
DTSTART;TZID=America/Los_Angeles:20231007T180000
DTEND;TZID=America/Los_Angeles:20231007T180000
DTSTAMP:20260423T101536
CREATED:20230908T174623Z
LAST-MODIFIED:20230908T174623Z
UID:4082-1696701600-1696701600@motodoffo.com
SUMMARY:Wild West Wine Club Release Party
DESCRIPTION:Round up\, ya’ll for our Fall Wine Club Release Party featuring LIVE music from the Chris Lozano Country Band\, loaded baked potato bar and a glass of *new* Doffo wine. Western attire is encouraged at this members-only event!  Read more...
URL:https://motodoffo.com/event/wild-west-wine-club-release-party/
LOCATION:Doffo Winery\, 36083 Summitville St\, Temecula\, CA\, 92592\, United States
CATEGORIES:MotoDoffo Wine Club Party
ATTACH;FMTTYPE=image/jpeg:https://motodoffo.com/wp-content/uploads/2023/09/Doffo-Wine-Club-Release-Party-1080-×-1080-px.jpg
END:VEVENT
BEGIN:VEVENT
DTSTART;TZID=America/Los_Angeles:20230825T110000
DTEND;TZID=America/Los_Angeles:20230826T160000
DTSTAMP:20260423T101536
CREATED:20230814T181339Z
LAST-MODIFIED:20230814T181339Z
UID:4058-1692961200-1693065600@motodoffo.com
SUMMARY:Wine Club Member Appreciation Days
DESCRIPTION:We want all of our wine club members to know just how grateful we are for each and every one of you\, so let’s celebrate! Join us for an appreciation party in the MotoBarrel Room for wine\, charcuterie\, and more. Plus\, get early access to our special offers that will be available later this month in celebration of National Wine Day!  Read more...
URL:https://motodoffo.com/event/wine-club-member-appreciation-days/
LOCATION:Doffo Winery\, 36083 Summitville St\, Temecula\, CA\, 92592\, United States
CATEGORIES:MotoDoffo Wine Club Party
ATTACH;FMTTYPE=image/jpeg:https://motodoffo.com/wp-content/uploads/2023/08/Doffo-Wine-Club-Member-Appreciation-Days.jpg
ORGANIZER;CN="Doffo Winery":MAILTO:info@doffowines.com
END:VEVENT
BEGIN:VEVENT
DTSTART;TZID=America/Los_Angeles:20221119T110000
DTEND;TZID=America/Los_Angeles:20221120T170000
DTSTAMP:20260423T101536
CREATED:20221104T184406Z
LAST-MODIFIED:20221104T184406Z
UID:3763-1668855600-1668963600@motodoffo.com
SUMMARY:Wine Club Member Appreciation Weekend
DESCRIPTION:During this time of giving thanks\, we want all of our wine club members to know just how grateful we are for each and every one of you. So let’s celebrate! Join us for an appreciation party on the Wine Club Patio with LIVE music\, homemade Italian Wedding Soup\, member tastings\, discounts and exclusive member wine bundles.  Read more...
URL:https://motodoffo.com/event/wine-club-member-appreciation-weekend/
LOCATION:Doffo Winery\, 36083 Summitville St\, Temecula\, CA\, 92592\, United States
CATEGORIES:MotoDoffo Wine Club Party
ATTACH;FMTTYPE=image/jpeg:https://motodoffo.com/wp-content/uploads/2022/11/MEMBER-APPRECIATION1.jpg
ORGANIZER;CN="Doffo Winery":MAILTO:info@doffowines.com
END:VEVENT
BEGIN:VEVENT
DTSTART;TZID=America/Los_Angeles:20221001T190000
DTEND;TZID=America/Los_Angeles:20221001T220000
DTSTAMP:20260423T101536
CREATED:20220907T222438Z
LAST-MODIFIED:20220907T222438Z
UID:3648-1664650800-1664661600@motodoffo.com
SUMMARY:Fall Wine Club Release Party – Casino Night
DESCRIPTION:We are once again inviting members of both the MotoDoffo and Doffo Wine Clubs to join us for our Fall Wine Club Release Party!  Read more...
URL:https://motodoffo.com/event/fall-wine-club-release-party-casino-night/
LOCATION:Doffo Winery\, 36083 Summitville St\, Temecula\, CA\, 92592\, United States
CATEGORIES:MotoDoffo Wine Club Party
ATTACH;FMTTYPE=image/jpeg:https://motodoffo.com/wp-content/uploads/2022/09/DW1533_PickupParty.jpg
ORGANIZER;CN="Doffo Winery":MAILTO:info@doffowines.com
END:VEVENT
BEGIN:VEVENT
DTSTART;TZID=America/Los_Angeles:20220827T130000
DTEND;TZID=America/Los_Angeles:20220828T170000
DTSTAMP:20260423T101536
CREATED:20220812T150636Z
LAST-MODIFIED:20220812T150636Z
UID:3616-1661605200-1661706000@motodoffo.com
SUMMARY:Doffo Wine Club Member Appreciation Weekend
DESCRIPTION:Doffo & MotoDoffo Wine Club Members\, we are grateful for YOU! So let’s celebrate!\n \nJoin us for an appreciation party on the Wine Club Patio with LIVE music\, complimentary charcuterie grazing table\, member tastings\, discounts and exclusive member wine bundles.\nMAKE RESERVATIONS HERE\nThis event is complimentary for all Doffo and MotoDoffo Wine Club Members\, limit two tickets per membership.\n \nHOW TO RESERVE: Click below and reserve your time and date in the drop down menu\, select number of guests\, add to the cart and checkout (limit of two attendees per membership). ***Make sure you completely checkout and receive a confirmation of reservation.\n \nReservations are required. Space is limited and we want to accommodate as many members as we can! 21+ only.\n \n\nMAKE RESERVATIONS HERE
URL:https://motodoffo.com/event/doffo-wine-club-member-appreciation-weekend/
LOCATION:Doffo Winery\, 36083 Summitville St\, Temecula\, CA\, 92592\, United States
CATEGORIES:MotoDoffo Wine Club Party
ATTACH;FMTTYPE=image/jpeg:https://motodoffo.com/wp-content/uploads/2022/08/WINE-CLUB-APPRECIATION-WEEKEND-August-27-28.jpg
ORGANIZER;CN="Doffo Winery":MAILTO:info@doffowines.com
END:VEVENT
BEGIN:VEVENT
DTSTART;TZID=America/Los_Angeles:20220514T170000
DTEND;TZID=America/Los_Angeles:20220514T200000
DTSTAMP:20260423T101536
CREATED:20220415T200333Z
LAST-MODIFIED:20220415T200419Z
UID:3558-1652547600-1652558400@motodoffo.com
SUMMARY:Double Doffo Wine Pairing Release Party
DESCRIPTION:Doffo & MotoDoffo Members are Invited to Join us for the first ever Dual Wine Club Release Party!  Read more...
URL:https://motodoffo.com/event/double-doffo-wine-pairing-release-party/
LOCATION:Doffo Winery\, 36083 Summitville St\, Temecula\, CA\, 92592\, United States
CATEGORIES:MotoDoffo Wine Club Party
ATTACH;FMTTYPE=image/jpeg:https://motodoffo.com/wp-content/uploads/2022/04/DW1520_WineClubParty.jpg
END:VEVENT
BEGIN:VEVENT
DTSTART;TZID=America/Los_Angeles:20210508T190000
DTEND;TZID=America/Los_Angeles:20210508T210000
DTSTAMP:20260423T101536
CREATED:20210430T210007Z
LAST-MODIFIED:20210430T210801Z
UID:2952-1620500400-1620507600@motodoffo.com
SUMMARY:MotoDoffo Wine Club Release Party
DESCRIPTION:MotoDoffo Wine Club Members\, come celebrate with us once again! Join us on Saturday\, May 8th for our MotoDoffo Release Party\, featuring a BBQ dinner prepared by Fuego Y Sal\, country music\, and of course our 2018 Gran Tinto.\nTickets are $20 per person and include one glass of wine and dinner prepared by Fuego Y Sal (see menu below). Limit 4 tickets max per MotoDoffo membership.\n\nCLICK HERE TO GET YOUR TICKETS\n\nDinner Menu by Fuego Y Sal:\n\nDry Rubbed & Grilled BBQ Chicken Leg Quarter\nGreen Salad\, Red Skin Potato Salad\, Buttery Corn on the Cob\nPeaches n Cream Fruit Cups\n  Read more...
URL:https://motodoffo.com/event/motodoffo-wine-club-release-party-3/
LOCATION:Doffo Winery\, 36083 Summitville St\, Temecula\, CA\, 92592\, United States
CATEGORIES:MotoDoffo Wine Club Party
ATTACH;FMTTYPE=image/jpeg:https://motodoffo.com/wp-content/uploads/2021/04/MD1337_MDReleaseParty1.jpg
ORGANIZER;CN="Doffo Winery":MAILTO:info@doffowines.com
END:VEVENT
BEGIN:VEVENT
DTSTART;TZID=America/Los_Angeles:20200111T160000
DTEND;TZID=America/Los_Angeles:20200111T190000
DTSTAMP:20260423T101536
CREATED:20191227T220216Z
LAST-MODIFIED:20191230T221554Z
UID:2782-1578758400-1578769200@motodoffo.com
SUMMARY:MotoDoffo Wine Club January Release Party
DESCRIPTION:Join us on Saturday\, January 11th for our MotoDoffo Release Party! This is the perfect opportunity for MotoDoffo Club members to pick up their January order\, and enjoy a glass of our 2017 Super Tinto alongside some delicious creations from Chef Gianni. Plus we’ll have a special art gallery with this year’s featured label artist\, Doug Breuninger!  Read more...
URL:https://motodoffo.com/event/motodoffo-wine-club-january-release-party/
LOCATION:Doffo Winery\, 36083 Summitville St\, Temecula\, CA\, 92592\, United States
CATEGORIES:MotoDoffo Wine Club Party
ATTACH;FMTTYPE=image/jpeg:https://motodoffo.com/wp-content/uploads/2019/12/MDReleaseParty_Web.jpg
ORGANIZER;CN="Doffo Winery":MAILTO:info@doffowines.com
END:VEVENT
BEGIN:VEVENT
DTSTART;TZID=America/Los_Angeles:20190921T160000
DTEND;TZID=America/Los_Angeles:20190921T200000
DTSTAMP:20260423T101536
CREATED:20190904T162917Z
LAST-MODIFIED:20190904T162917Z
UID:2724-1569081600-1569096000@motodoffo.com
SUMMARY:MotoDoffo Wine Club Release Party
DESCRIPTION:Join us on Saturday\, September 21st for our MotoDoffo Release Party! This is the perfect opportunity to pick up your September wine club order\, plus we’ll have a special art and motorcycle unveiling and will be screening the new documentary film Oil in the Blood. MotoDoffo Wine Club members in attendance will receive a food voucher upon check-in. We hope to see you there!  Read more...
URL:https://motodoffo.com/event/motodoffo-wine-club-release-party-2/
LOCATION:Doffo Winery\, 36083 Summitville St\, Temecula\, CA\, 92592\, United States
CATEGORIES:MotoDoffo Wine Club Party
ATTACH;FMTTYPE=image/jpeg:https://motodoffo.com/wp-content/uploads/2019/09/MD1307_MDReleaseParty_Shop.jpg
ORGANIZER;CN="Doffo Winery":MAILTO:info@doffowines.com
END:VEVENT
BEGIN:VEVENT
DTSTART;TZID=America/Los_Angeles:20190504T190000
DTEND;TZID=America/Los_Angeles:20190504T210000
DTSTAMP:20260423T101536
CREATED:20190423T212942Z
LAST-MODIFIED:20190423T212942Z
UID:2628-1556996400-1557003600@motodoffo.com
SUMMARY:MotoDoffo Wine Club Release Party
DESCRIPTION:The 2016 MotoDoffo Gran Tinto is here\, and we are celebrating with this exclusive release party for MotoDoffo Wine Club members! Join us on Saturday\, May 4th for some authentic Spanish Paella and our Gran Tinto blend\, and we will also be airing the qualifying rounds of the MotoGP race from Jerez\, Spain. Tickets are $25 per person and includes paella and a glass of Gran Tinto (additional food and wine available for purchase).  Read more...
URL:https://motodoffo.com/event/motodoffo-wine-club-release-party/
LOCATION:Doffo Winery\, 36083 Summitville St\, Temecula\, CA\, 92592\, United States
CATEGORIES:MotoDoffo Wine Club Party
ATTACH;FMTTYPE=image/jpeg:https://motodoffo.com/wp-content/uploads/2019/04/MD1294_MDReleaseParty_Shop.jpg
END:VEVENT
END:VCALENDAR