BEGIN:VCALENDAR
VERSION:2.0
PRODID:-//MOTODOFFO - ECPv6.9.0//NONSGML v1.0//EN
CALSCALE:GREGORIAN
METHOD:PUBLISH
X-WR-CALNAME:MOTODOFFO
X-ORIGINAL-URL:https://motodoffo.com
X-WR-CALDESC:Events for MOTODOFFO
REFRESH-INTERVAL;VALUE=DURATION:PT1H
X-Robots-Tag:noindex
X-PUBLISHED-TTL:PT1H
BEGIN:VTIMEZONE
TZID:America/Los_Angeles
BEGIN:DAYLIGHT
TZOFFSETFROM:-0800
TZOFFSETTO:-0700
TZNAME:PDT
DTSTART:20210314T100000
END:DAYLIGHT
BEGIN:STANDARD
TZOFFSETFROM:-0700
TZOFFSETTO:-0800
TZNAME:PST
DTSTART:20211107T090000
END:STANDARD
BEGIN:DAYLIGHT
TZOFFSETFROM:-0800
TZOFFSETTO:-0700
TZNAME:PDT
DTSTART:20220313T100000
END:DAYLIGHT
BEGIN:STANDARD
TZOFFSETFROM:-0700
TZOFFSETTO:-0800
TZNAME:PST
DTSTART:20221106T090000
END:STANDARD
END:VTIMEZONE
BEGIN:VEVENT
DTSTART;TZID=America/Los_Angeles:20220318T180000
DTEND;TZID=America/Los_Angeles:20220318T190000
DTSTAMP:20260423T154417
CREATED:20220310T182620Z
LAST-MODIFIED:20220310T182620Z
UID:3549-1647626400-1647630000@motodoffo.com
SUMMARY:Virtual Happy Hour: 2019 Split Tasting
DESCRIPTION:Join us on Friday\, March 18th at 6:00pm PDT for a virtual wine tasting and happy hour with Damian and Samantha Doffo! We’ll be tasting through our new Split Bundle\, which features 375mL bottles of our 2019 Mistura\, 2019 Malbec and 2019 Zinfandel! Plus\, we’ll be sharing updates on some exciting events coming up! Grab a glass of wine and join us!\n \nClick here to order your split bundle now!  Read more...
URL:https://motodoffo.com/event/virtual-happy-hour-2019-split-tasting/
CATEGORIES:Virtual Event
ATTACH;FMTTYPE=image/jpeg:https://motodoffo.com/wp-content/uploads/2022/03/SM_HappyHour_3.18.jpg
END:VEVENT
BEGIN:VEVENT
DTSTART;TZID=America/Los_Angeles:20210514T180000
DTEND;TZID=America/Los_Angeles:20210514T190000
DTSTAMP:20260423T154417
CREATED:20210507T203009Z
LAST-MODIFIED:20210511T001708Z
UID:2963-1621015200-1621018800@motodoffo.com
SUMMARY:Virtual Happy Hour with Pieter Loftus of DGR San Diego
DESCRIPTION:Join Samantha and Damian Doffo for a MotoDoffo Virtual Happy Hour featuring guest Pieter Loftus\, organizer of the San Diego Distinguished Gentleman’s Ride. This episode will serve as a Virtual Release for our limited edition collab with the DGR: the Distinguished Tinto. This wine features new original artwork by this year’s featured artist\, Chris White (@buzzvizualz) and a portion of proceeds will be donated to the DGR’s cause\, Movember.  Read more...
URL:https://motodoffo.com/event/virtual-happy-hour-with-peter-loftus-of-dgr-san-diego/
CATEGORIES:Virtual Event
ATTACH;FMTTYPE=image/jpeg:https://motodoffo.com/wp-content/uploads/2021/05/FB_HappyHour_Sam_5.14_SM.jpg
END:VEVENT
END:VCALENDAR